BEGIN:VCALENDAR
VERSION:2.0
PRODID:Jamestown-Yorktown Foundation, VA Calendar Creator
METHOD:PUBLISH
BEGIN:VEVENT
DTSTAMP:20260220T090144
DTSTART:20260228T133000
DTEND:20260228T153000
SUMMARY:Book Signing with Libby McNamee
DESCRIPTION:In honor of James Lafayette Day, join author Libby McNamee on February 28 at 1:30 p.m. at the American Revolution Museum at Yorktown shop for a special book signing of “Susanna's Midnight Ride,” which chronicles the true story of 16-year-old Susanna Bolling who helped to save General Lafayette during the Revolutionary War.
X-ALT-DESC;FMTTYPE=text/html:In honor of James Lafayette Day, join author Libby McNamee on February 28 at 1:30 p.m. at the American Revolution Museum at Yorktown shop for a special book signing of “Susanna's Midnight Ride,” which chronicles the true story of 16-year-old Susanna Bolling who helped to save General Lafayette during the Revolutionary War.
LOCATION:American Revolution Museum at Yorktown\, 200 Water Street\, Route 1020 Yorktown\, Virginia 23690
CLASS:PUBLIC
END:VEVENT
END:VCALENDAR
