BEGIN:VCALENDAR
VERSION:2.0
PRODID:Jamestown-Yorktown Foundation, VA Calendar Creator
METHOD:PUBLISH
BEGIN:VEVENT
DTSTAMP:20260120T132122
DTSTART:20260207T160000
DTEND:20260207T170000
SUMMARY:Chinese Tea Talk
DESCRIPTION:<p>Feather Chen is the founder of "Upon a Tea - A world beyond taste. ” She is a former host at Yunnan Provincial TV, a certified Chinese  tea evaluator &amp; artist, a tea event planner and online video producer. She will be discussing Chinese teas and tea ceremonies.</p>
X-ALT-DESC;FMTTYPE=text/html:<p>Feather Chen is the founder of "Upon a Tea - A world beyond taste. ” She is a former host at Yunnan Provincial TV, a certified Chinese  tea evaluator &amp; artist, a tea event planner and online video producer. She will be discussing Chinese teas and tea ceremonies.</p>
LOCATION:Jamestown Settlement\, 2110 Jamestown Rd. Williamsburg\, Virginia 23185
CLASS:PUBLIC
END:VEVENT
END:VCALENDAR
