BEGIN:VCALENDAR
VERSION:2.0
PRODID:Jamestown-Yorktown Foundation, VA Calendar Creator
METHOD:PUBLISH
BEGIN:VEVENT
DTSTAMP:20251017T115656
DTSTART:20251020T100000
DTEND:20251020T150000
SUMMARY:Red Cross Blood Drive
DESCRIPTION:The Jamestown-Yorktown Foundation will host a Red Cross Blood Drive, Monday, October 20, 2025,&nbsp;10 a.m. – 3 p.m. at&nbsp;Jamestown Settlement,<br>2110 Jamestown Rd., Williamsburg, Va. in the&nbsp;Education Wing, Classrooms A, B and C.<br><br>Join the JYF team for the October 20th drive by downloading the <a href="https://redcrossblood.app.link/jointeam/64771" target="_blank" rel="noopener"><strong>Blood Donor app</strong></a> today. With the app, you can check in early with RapidPass<sup>®</sup>&nbsp;and  expedite your appointment.<br><br>Schedule your appointment  and enter the sponsor code "Jamestown" or call 1-800-RED CROSS (1-800-733-2767).<br><div></div>
X-ALT-DESC;FMTTYPE=text/html:The Jamestown-Yorktown Foundation will host a Red Cross Blood Drive, Monday, October 20, 2025,&nbsp;10 a.m. – 3 p.m. at&nbsp;Jamestown Settlement,<br>2110 Jamestown Rd., Williamsburg, Va. in the&nbsp;Education Wing, Classrooms A, B and C.<br><br>Join the JYF team for the October 20th drive by downloading the <a href="https://redcrossblood.app.link/jointeam/64771" target="_blank" rel="noopener"><strong>Blood Donor app</strong></a> today. With the app, you can check in early with RapidPass<sup>®</sup>&nbsp;and  expedite your appointment.<br><br>Schedule your appointment  and enter the sponsor code "Jamestown" or call 1-800-RED CROSS (1-800-733-2767).<br><div></div>
LOCATION:Jamestown Settlement\, 2110 Jamestown Rd. Williamsburg\, Virginia 23185
CLASS:PUBLIC
END:VEVENT
END:VCALENDAR
