BEGIN:VCALENDAR
VERSION:2.0
PRODID:Jamestown-Yorktown Foundation, VA Calendar Creator
METHOD:PUBLISH
BEGIN:VEVENT
DTSTAMP:20251006T094343
DTSTART:20260101T000000
DTEND:20260101T235900
SUMMARY:New Year's Day - Museums Closed
DESCRIPTION:Jamestown Settlement and the American Revolution Museum at Yorktown are closed New Year's day.&nbsp;
X-ALT-DESC;FMTTYPE=text/html:Jamestown Settlement and the American Revolution Museum at Yorktown are closed New Year's day.&nbsp;
LOCATION:
CLASS:PUBLIC
END:VEVENT
END:VCALENDAR
