BEGIN:VCALENDAR
VERSION:2.0
PRODID:Jamestown-Yorktown Foundation, VA Calendar Creator
METHOD:PUBLISH
BEGIN:VEVENT
DTSTAMP:20250602T170804
DTSTART:20250606T100000
DTEND:20250608T163000
SUMMARY:VA 250 Mobile Museum
DESCRIPTION:<p>A hands-on, interactive and immersive “museum on wheels,” the VA250 Mobile Museum Experience titled “Out of Many, One” is housed in a quad-expandable tractor trailer that is traveling throughout the Commonwealth bringing key stories of Virginia’s rich history.</p><p><strong>The mobile museum is free and open to the public. It will be at the American Revolution Museum at Yorktown, 10 a.m. - 4:30 p.m., Friday, June 6 - Sunday, June 8.&nbsp;</strong></p><p><strong>Learn more at <a href="https://va250.org/mobile-museum/" target="_blank">VA205.org</a> or <a href="https://www.visityorktown.org/Calendar.aspx?EID=5130&amp;month=6&amp;year=2025&amp;day=2&amp;calType=0" target="_blank">VisitYorktown.org</a></strong></p>
X-ALT-DESC;FMTTYPE=text/html:<p>A hands-on, interactive and immersive “museum on wheels,” the VA250 Mobile Museum Experience titled “Out of Many, One” is housed in a quad-expandable tractor trailer that is traveling throughout the Commonwealth bringing key stories of Virginia’s rich history.</p><p><strong>The mobile museum is free and open to the public. It will be at the American Revolution Museum at Yorktown, 10 a.m. - 4:30 p.m., Friday, June 6 - Sunday, June 8.&nbsp;</strong></p><p><strong>Learn more at <a href="https://va250.org/mobile-museum/" target="_blank">VA205.org</a> or <a href="https://www.visityorktown.org/Calendar.aspx?EID=5130&amp;month=6&amp;year=2025&amp;day=2&amp;calType=0" target="_blank">VisitYorktown.org</a></strong></p>
LOCATION:American Revolution Museum at Yorktown\, 200 Water Street\, Route 1020 Yorktown\, Virginia 23690
CLASS:PUBLIC
END:VEVENT
END:VCALENDAR
