BEGIN:VCALENDAR
VERSION:2.0
PRODID:Jamestown-Yorktown Foundation, VA Calendar Creator
METHOD:PUBLISH
BEGIN:VEVENT
DTSTAMP:20250609T131614
DTSTART:20250726T150000
DTEND:20250726T160000
SUMMARY:Youth Citizenship Ceremony
DESCRIPTION:<p>A group of  young people from across the globe, the children of naturalized citizens, will follow the lead of the Jamestown-Yorktown Foundation Honor Guard, who will escort  them into Jamestown Settlement’s Robins Foundation Theater to take the Oath of Allegiance to the United States and received Certificates of Citizenship in a July 26 ceremony. </p><p>The event is hosted by the Jamestown-Yorktown Foundation and the Ann Wager Chapter  National Society Daughters of the American Revolution in partnership with U.S. Citizenship and Immigration Services.&nbsp;</p>
X-ALT-DESC;FMTTYPE=text/html:<p>A group of  young people from across the globe, the children of naturalized citizens, will follow the lead of the Jamestown-Yorktown Foundation Honor Guard, who will escort  them into Jamestown Settlement’s Robins Foundation Theater to take the Oath of Allegiance to the United States and received Certificates of Citizenship in a July 26 ceremony. </p><p>The event is hosted by the Jamestown-Yorktown Foundation and the Ann Wager Chapter  National Society Daughters of the American Revolution in partnership with U.S. Citizenship and Immigration Services.&nbsp;</p>
LOCATION:Jamestown Settlement\, 2110 Jamestown Rd. Williamsburg\, Virginia 23185
CLASS:PUBLIC
END:VEVENT
END:VCALENDAR
